BEGIN:VCALENDAR
VERSION:2.0
PRODID:-//wp-events-plugin.com//7.2.3.1//EN
TZID:Europe/Helsinki
X-WR-TIMEZONE:Europe/Helsinki
BEGIN:VEVENT
UID:205@jklseta.fi
DTSTART;TZID=Europe/Helsinki:20251029T180000
DTEND;TZID=Europe/Helsinki:20251029T193000
DTSTAMP:20251020T061018Z
URL:https://jklseta.fi/tapahtumat/bipan-ryhma-29-10-25/
SUMMARY:BiPan+-ryhmä
DESCRIPTION:BiPan+-ryhmä on vertaistukiryhmä joka on tarkoitettu biseksua
 aleille\, panseksuaaleille ja muille useampaan sukupuoleen vetoa kokeville
  tai seksuaalisuuttaan pohtiville. Ryhmässä pääsääntöisesti keskity
 tään pohtimaan seksuaalisuuden erilaisia aspekteja\, mutta joskus keksim
 me myös jotain rentoa yhteistä tekemistä. Tällä kertaa aihe on vapaa\
 , tervetuloa mukaan kaikki vertaisseuraa kaipaavat. Ryhmässä saa jakaa o
 mia kokemuksiaan ja mietintöjään\, taikka olla vain kuunteluoppilaana\,
  kukin omien mieltymystensä mukaan!\n\nVetäjänä toimii Savu-Sirius.
CATEGORIES:BiPan+ ryhmät
LOCATION:Kokoustila "Talvikki"\, Matarankatu 6 A\, Jyväskylä\, 40100\, Su
 omi
X-APPLE-STRUCTURED-LOCATION;VALUE=URI;X-ADDRESS=Matarankatu 6 A\, Jyväskyl
 ä\, 40100\, Suomi;X-APPLE-RADIUS=100;X-TITLE=Kokoustila \"Talvikki\":geo:
 0,0
END:VEVENT
BEGIN:VTIMEZONE
TZID:Europe/Helsinki
X-LIC-LOCATION:Europe/Helsinki
BEGIN:STANDARD
DTSTART:20251026T030000
TZOFFSETFROM:+0300
TZOFFSETTO:+0200
TZNAME:EET
END:STANDARD
END:VTIMEZONE
END:VCALENDAR