BEGIN:VCALENDAR
VERSION:2.0
PRODID:-//wp-events-plugin.com//7.2.3.1//EN
TZID:Europe/Helsinki
X-WR-TIMEZONE:Europe/Helsinki
BEGIN:VEVENT
UID:241@jklseta.fi
DTSTART;TZID=Europe/Helsinki:20260213T220000
DTEND;TZID=Europe/Helsinki:20260214T043000
DTSTAMP:20260124T085305Z
URL:https://jklseta.fi/tapahtumat/club-kaapin-ystavanpaivan-ysarietkobilee
 t/
SUMMARY:Club Kaapin Ystävänpäivän Ysärietkobileet
DESCRIPTION:Jyväskylän SETA proudly presents:\nClub Kaapin Ystävänpäiv
 än Ysärietkobileet\nPe 13.2. Yökerho Freetimessa\n💖💖💖\n&nbsp\;
 \n\n💖 Bileissä jäseneksi liittyvät pääsevät narikan hinnalla sis
 ään\n\n💖 Ilmainen skumppa-arvontalipuke kaikille bilettäjille\n\n
 💖 DJ Kimpsu tykittää koko illan parhaita ysärihittejä\n\n&nbsp\;\n\
 nTule sinäkin Club Kaapin Ystävänpäivän Ysärietkobileisiin!\n\nYstä
 viä - kohtaamisia - tanssia - ysärimusaa - ilmainen skumppa-arvonta - ja
  paljon muuta.\n\n📍 Paikka: Freetime (Kauppakatu 30)\n\n🕙 Aika: Perj
 antai 13.2. klo 22.00 - 4.30\n\n🔞 Ikäraja: 18\n\n🎟 Liput: jäsen 3 
 € + narikka 3\,5 € / muut 6 € + narikka 3\,5 €\n\nVAPAA PÄÄSY bi
 leissä Jyväskylän SETAn jäseneksi liittyville\, narikka veloitetaan er
 ikseen.\n\nJos olet maksanut jäsenmaksun pankkiin\, voit lunastaa valmiin
  jäsenkorttisi lipunmyynnistä illan aikana (valmistaudu todistamaan maks
 usi).\n\n&nbsp\;\n\n💖 Ystävänpäivän etkojen skumppa-arvonta 💖\n\
 nSaapuessasi bileisiin saat lipunmyynnistä ilmaisen arpalipukkeen\, jolla
  voit voittaa illan aikana pullollisen kuohuvaa ja muuta mukavaa!\n\nIllan
  teemana on 1990-luku – tee vaikutus kanssabilettäjiin pukeutumalla ys
 ärilookkiin!\n\n🎶 Illan ysäripitoisesta tanssimusiikista vastaa DJ Ki
 mpsu.\n\nTule bilettämään kanssamme! 🎉\n\n&nbsp\;\nJyväskylä SETA 
 proudly presents:\nClub Kaappi Valentine’s Day 90s Pre-Party\nFri 13 Feb
 ruary at Nightclub Freetime\n 💖💖💖\n💖 Those who join as members
  at the party get in for the price of the coat check\n💖 A free sparklin
 g wine raffle ticket for all partygoers\n💖 DJ Kimpsu spins the best 90s
  hits all night long\n\n&nbsp\;\n\nCome join us at Club Kaappi’s Valenti
 ne’s Day 90s Pre-Party!\n\nFriends – encounters – dancing – 90s mu
 sic – a free sparkling wine raffle – and much more.\n\n📍 Venue: Fre
 etime (Kauppakatu 30)\n🕙 Time: Friday 13 Feb\, 10:00 pm – 4:30 am\n
 🔞 Age limit: 18\n🎟 Tickets: Jyväskylä SETA members 3 € + coat ch
 eck 3.50 € / others 6 € + coat check 3.50 €\n\nFREE ENTRY for those 
 who join Jyväskylä SETA as members at the party (coat check charged sepa
 rately).\n\nIf you’ve paid the membership fee via bank transfer\, you ca
 n collect your ready-made membership card at the ticket desk during the ev
 ening (be prepared to show proof of payment).\n\nInstructions for paying t
 he membership fee can be found via the link in bio.\n\n💖 Valentine’s 
 pre-party sparkling wine raffle 💖\nWhen you arrive\, you’ll receive a
  free raffle ticket at the ticket desk\, giving you the chance to win a bo
 ttle of sparkling wine and other fun prizes during the night!\n\nThe theme
  of the evening is the 90s – impress your fellow partygoers by rocking a
  90s look!\n\n🎶 The night’s 90s-packed dance music is brought to you 
 by DJ Kimpsu.\n\nCome party with us! 🎉
CATEGORIES:Bileet
LOCATION:Freetime\, Kauppakatu 30\, Jyväskylä\, 40100\, Suomi
X-APPLE-STRUCTURED-LOCATION;VALUE=URI;X-ADDRESS=Kauppakatu 30\, Jyväskylä
 \, 40100\, Suomi;X-APPLE-RADIUS=100;X-TITLE=Freetime:geo:0,0
END:VEVENT
BEGIN:VTIMEZONE
TZID:Europe/Helsinki
X-LIC-LOCATION:Europe/Helsinki
BEGIN:STANDARD
DTSTART:20251026T030000
TZOFFSETFROM:+0300
TZOFFSETTO:+0200
TZNAME:EET
END:STANDARD
END:VTIMEZONE
END:VCALENDAR