BEGIN:VCALENDAR
VERSION:2.0
PRODID:-//wp-events-plugin.com//7.2.3.1//EN
TZID:Europe/Helsinki
X-WR-TIMEZONE:Europe/Helsinki
BEGIN:VEVENT
UID:52@jklseta.fi
DTSTART;TZID=Europe/Helsinki:20250311T173000
DTEND;TZID=Europe/Helsinki:20250311T190000
DTSTAMP:20241226T092458Z
URL:https://jklseta.fi/tapahtumat/miestenryhma-2025-03-11/
SUMMARY:Miestenryhmä
DESCRIPTION:Jyväskylän Setan miestenryhmä on itsensä mieheksi tuntevill
 e tarkoitettu vertaistukiryhmä. Tervetulleita ovat kaikki homot\, bi- ja 
 panseksuaalit\, cis- ja transsukupuoliset\, aseksuaalit\, aromanttiset sek
 ä suuntautumistaan pohdiskelevat nimikkeisiin ja lokeroihin katsomatta.\n
 \nRyhmä tarjoaa päihteettömän\, turvallisen ja luottamuksellisen ympä
 ristön tutustumiselle\, keskustelulle ja vertaistuelle. Keskustelut ja mu
 u yhteinen toiminta toteutetaan täysin ryhmäläisten toiveiden pohjalta\
 , joten tule rohkeasti mukaan – tulet varmasti kuulluksi.\n\nKokoontumis
 et ovat klo 17.30-19.00.\n\nRyhmä kokoontuu Talvikki-salissa Kansalaistoi
 mintakeskus Mataralla\, Matarankatu 6\, 2.krs (esteetön pääsy).\n\nMik
 äli paikan päälle tuleminen jännittää sinua\, laita viesti viimeist
 ään kokoontumista edeltävänä päivänä sähköpostiin seta.miestenry
 hma.jkl@gmail.com\, niin sovitaan kuinka voimme tulla sinua vastaan ja mad
 altaa kynnystä osallistumiseen.\n\nLämpimästi tervetuloa!\n\nTiedustelu
 t: seta.miestenryhma.jkl@gmail.com
CATEGORIES:Miestenryhmät
LOCATION:Kokoustila "Talvikki"\, Matarankatu 6 A\, Jyväskylä\, 40100\, Su
 omi
X-APPLE-STRUCTURED-LOCATION;VALUE=URI;X-ADDRESS=Matarankatu 6 A\, Jyväskyl
 ä\, 40100\, Suomi;X-APPLE-RADIUS=100;X-TITLE=Kokoustila \"Talvikki\":geo:
 0,0
END:VEVENT
BEGIN:VTIMEZONE
TZID:Europe/Helsinki
X-LIC-LOCATION:Europe/Helsinki
BEGIN:STANDARD
DTSTART:20241027T030000
TZOFFSETFROM:+0300
TZOFFSETTO:+0200
TZNAME:EET
END:STANDARD
END:VTIMEZONE
END:VCALENDAR